BEGIN:VCALENDAR
VERSION:2.0
PRODID:-//https://www.petemusic.com///NONSGML kigkonsult.se iCalcreator 2.10.15//
METHOD:PUBLISH
BEGIN:VEVENT
UID:20260420T005715UTC-1028kmC6rj@https://www.petemusic.com/
DTSTAMP:20260420T005715Z
DESCRIPTION: https://www.petemusic.com/calendar/event/66-the-zoo-bar
DTSTART:20230311T160000Z
DTEND:20230311T190000Z
LOCATION:The Zoo Bar/The Highlands at Harbor Springs (600 Highlands Pike\, 
 Harbor Springs\, MI 49740\, USA)
SUMMARY:The Zoo Bar
URL:https://www.petemusic.com/calendar/event/66-the-zoo-bar
END:VEVENT
END:VCALENDAR
