BEGIN:VCALENDAR
VERSION:2.0
PRODID:-//https://www.petemusic.com///NONSGML kigkonsult.se iCalcreator 2.10.15//
METHOD:PUBLISH
BEGIN:VEVENT
UID:20260421T101305UTC-9356d5Px8k@https://www.petemusic.com/
DTSTAMP:20260421T101305Z
DESCRIPTION: https://www.petemusic.com/calendar/list-of-live-events/event/2
 41-nubs-pub
DTSTART:20240217T153000Z
DTEND:20240217T180000Z
LOCATION:Nub's Nob (500 Nubs Nob Rd\, Harbor Springs\, MI 49740\, USA)
SUMMARY:Nub's Pub
URL:https://www.petemusic.com/calendar/list-of-live-events/event/241-nubs-p
 ub
END:VEVENT
END:VCALENDAR
