BEGIN:VCALENDAR
VERSION:2.0
PRODID:-//https://www.petemusic.com///NONSGML kigkonsult.se iCalcreator 2.10.15//
METHOD:PUBLISH
BEGIN:VEVENT
UID:20260421T084134UTC-5172rS3CT5@https://www.petemusic.com/
DTSTAMP:20260421T084134Z
DESCRIPTION: https://www.petemusic.com/calendar/list-of-live-events/event/2
 93-private-event
DTSTART:20240724T173000Z
DTEND:20240724T203000Z
LOCATION:Bay Harbor Yacht Club (4300 Vista Dr\, Bay Harbor\, MI 49770)
SUMMARY:PRIVATE EVENT
URL:https://www.petemusic.com/calendar/list-of-live-events/event/293-privat
 e-event
END:VEVENT
END:VCALENDAR
